BEGIN:VCALENDAR
VERSION:2.0
PRODID:-//Fotoclub Uitgeest//NONSGML kigkonsult.se iCalcreator 2.30.10//
CALSCALE:GREGORIAN
METHOD:PUBLISH
UID:f18427cd-970b-4d67-9213-90a9851c0643
X-WR-CALNAME:iCagenda
X-WR-CALDESC:Event Management Extension for Joomla!
X-WR-RELCALID:3E26604A-50F4-4449-8B3E-E4F4932D05B5
X-WR-TIMEZONE:Europe/Amsterdam
BEGIN:VTIMEZONE
TZID:Europe/Amsterdam
BEGIN:STANDARD
TZNAME:CET
DTSTART:20251026T030000
TZOFFSETFROM:+0200
TZOFFSETTO:+0100
RDATE:20261025T030000
RDATE:20271031T030000
END:STANDARD
BEGIN:DAYLIGHT
TZNAME:CEST
DTSTART:20260329T020000
TZOFFSETFROM:+0100
TZOFFSETTO:+0200
RDATE:20270328T020000
END:DAYLIGHT
END:VTIMEZONE
BEGIN:VEVENT
UID:9683df2b-70b2-4ea5-a2eb-135a74b1eadd
DTSTAMP:20260423T143920Z
CATEGORIES:Fotoclub Uitgeest
CLASS:PUBLIC
DESCRIPTION:
DTSTART:20260505T173000Z
DTEND:20260505T173000Z
GEO:00;0
LOCATION:Nog nader te bepalen
ORGANIZER:
SEQUENCE:1
SUMMARY:Doe-avond: Nog nader te bepalen (2)
TRANSP:OPAQUE
URL:https://www.fotoclubuitgeest.nl/agenda/113-doe-avond-nog-nader-te-bepal
 en-2/2026-05-05-19-30.html
END:VEVENT
END:VCALENDAR
