BEGIN:VCALENDAR
VERSION:2.0
PRODID:-//Fotoclub Uitgeest//NONSGML kigkonsult.se iCalcreator 2.30.10//
CALSCALE:GREGORIAN
METHOD:PUBLISH
UID:1ad272ce-a408-4685-a19b-0ec1de2ff095
X-WR-CALNAME:iCagenda
X-WR-CALDESC:Event Management Extension for Joomla!
X-WR-RELCALID:3E26604A-50F4-4449-8B3E-E4F4932D05B5
X-WR-TIMEZONE:Europe/Amsterdam
BEGIN:VTIMEZONE
TZID:Europe/Amsterdam
BEGIN:STANDARD
TZNAME:CET
DTSTART:20251026T030000
TZOFFSETFROM:+0200
TZOFFSETTO:+0100
RDATE:20261025T030000
RDATE:20271031T030000
END:STANDARD
BEGIN:DAYLIGHT
TZNAME:CEST
DTSTART:20260329T020000
TZOFFSETFROM:+0100
TZOFFSETTO:+0200
RDATE:20270328T020000
END:DAYLIGHT
END:VTIMEZONE
BEGIN:VEVENT
UID:ddbe0491-2b7b-4786-b19a-71e923ddbc68
DTSTAMP:20260423T150226Z
CATEGORIES:Afdeling Kennemerland
CLASS:PUBLIC
DESCRIPTION:
DTSTART:20260511T180000Z
DTEND:20260511T180000Z
GEO:00;0
LOCATION:Nog nader te bepalen
ORGANIZER:
SEQUENCE:1
SUMMARY:Afsluiting seizoen
TRANSP:OPAQUE
URL:https://www.fotoclubuitgeest.nl/agenda/123-afsluiting-seizoen/2026-05-1
 1-20-00.html
END:VEVENT
END:VCALENDAR
