BEGIN:VCALENDAR
VERSION:2.0
PRODID:-//Fotoclub Uitgeest//NONSGML kigkonsult.se iCalcreator 2.30.10//
CALSCALE:GREGORIAN
METHOD:PUBLISH
UID:bb5ee72e-6e91-4de6-a8c1-a22404117661
X-WR-CALNAME:iCagenda
X-WR-CALDESC:Event Management Extension for Joomla!
X-WR-RELCALID:3E26604A-50F4-4449-8B3E-E4F4932D05B5
X-WR-TIMEZONE:Europe/Amsterdam
BEGIN:VTIMEZONE
TZID:Europe/Amsterdam
BEGIN:STANDARD
TZNAME:CET
DTSTART:20251026T030000
TZOFFSETFROM:+0200
TZOFFSETTO:+0100
RDATE:20261025T030000
RDATE:20271031T030000
END:STANDARD
BEGIN:DAYLIGHT
TZNAME:CEST
DTSTART:20260329T020000
TZOFFSETFROM:+0100
TZOFFSETTO:+0200
RDATE:20270328T020000
END:DAYLIGHT
END:VTIMEZONE
BEGIN:VEVENT
UID:368b0832-03cb-464b-8fcd-cd5268d2316e
DTSTAMP:20260423T150404Z
CATEGORIES:Fotoclub Uitgeest
CLASS:PUBLIC
DESCRIPTION:
DTSTART:20260908T180000Z
DTEND:20260908T200000Z
GEO:00;0
LOCATION:
ORGANIZER:
SEQUENCE:1
SUMMARY:Bespreken foto's 1e competitie ronde Vrij of Natuur in de knel.
TRANSP:OPAQUE
URL:https://www.fotoclubuitgeest.nl/agenda/126-bespreken-fotos-1e-competiti
 e-ronde-vrij-of-natuur-in-de-knel.html
END:VEVENT
END:VCALENDAR
