BEGIN:VCALENDAR
VERSION:2.0
PRODID:-//Fotoclub Uitgeest//NONSGML kigkonsult.se iCalcreator 2.30.10//
CALSCALE:GREGORIAN
METHOD:PUBLISH
UID:8fb77cad-3881-4c54-9247-91187ac3a88d
X-WR-CALNAME:iCagenda
X-WR-CALDESC:Event Management Extension for Joomla!
X-WR-RELCALID:3E26604A-50F4-4449-8B3E-E4F4932D05B5
X-WR-TIMEZONE:Europe/Amsterdam
BEGIN:VTIMEZONE
TZID:Europe/Amsterdam
BEGIN:STANDARD
TZNAME:CET
DTSTART:20261025T030000
TZOFFSETFROM:+0200
TZOFFSETTO:+0100
RDATE:20271031T030000
END:STANDARD
BEGIN:DAYLIGHT
TZNAME:CEST
DTSTART:20260329T020000
TZOFFSETFROM:+0100
TZOFFSETTO:+0200
RDATE:20270328T020000
RDATE:20280326T020000
END:DAYLIGHT
END:VTIMEZONE
BEGIN:VEVENT
UID:541d043c-ebd8-460e-832c-98ac6f8536f8
DTSTAMP:20260423T162400Z
CATEGORIES:Exposities
CLASS:PUBLIC
DESCRIPTION:
DTSTART:20270226T230000Z
DTEND:20270419T230000Z
GEO:00;0
LOCATION:
ORGANIZER:
SEQUENCE:1
SUMMARY:Expositie gemeentehuis\, incl. Schoolwedstrijd.
TRANSP:OPAQUE
URL:https://www.fotoclubuitgeest.nl/agenda/144-expositie-gemeentehuis-incl-
 schoolwedstrijd.html
END:VEVENT
END:VCALENDAR
