BEGIN:VCALENDAR
VERSION:2.0
PRODID:-//Fotoclub Uitgeest//NONSGML kigkonsult.se iCalcreator 2.30.10//
CALSCALE:GREGORIAN
METHOD:PUBLISH
UID:cd7d11b4-3921-4cf3-9ccc-ddc82c514594
X-WR-CALNAME:iCagenda
X-WR-CALDESC:Event Management Extension for Joomla!
X-WR-RELCALID:3E26604A-50F4-4449-8B3E-E4F4932D05B5
X-WR-TIMEZONE:Europe/Amsterdam
BEGIN:VTIMEZONE
TZID:Europe/Amsterdam
BEGIN:STANDARD
TZNAME:CET
DTSTART:20261025T030000
TZOFFSETFROM:+0200
TZOFFSETTO:+0100
RDATE:20271031T030000
END:STANDARD
BEGIN:DAYLIGHT
TZNAME:CEST
DTSTART:20260329T020000
TZOFFSETFROM:+0100
TZOFFSETTO:+0200
RDATE:20270328T020000
RDATE:20280326T020000
END:DAYLIGHT
END:VTIMEZONE
BEGIN:VEVENT
UID:23529d81-c616-4b78-9e16-aec2b06af090
DTSTAMP:20260423T162338Z
CATEGORIES:Fotoclub Uitgeest
CLASS:PUBLIC
DESCRIPTION:
DTSTART:20270309T190000Z
DTEND:20270309T210000Z
GEO:00;0
LOCATION:
ORGANIZER:
SEQUENCE:1
SUMMARY:Presentatie foto's met het thema 'Creatief'.
TRANSP:OPAQUE
URL:https://www.fotoclubuitgeest.nl/agenda/145-bespreken-fotos-met-het-them
 a-creatief.html
END:VEVENT
END:VCALENDAR
