BEGIN:VCALENDAR
VERSION:2.0
PRODID:-//Fotoclub Uitgeest//NONSGML kigkonsult.se iCalcreator 2.30.10//
CALSCALE:GREGORIAN
METHOD:PUBLISH
UID:0ed42bd4-c77c-43a0-a120-abc041445361
X-WR-CALNAME:iCagenda
X-WR-CALDESC:Event Management Extension for Joomla!
X-WR-RELCALID:3E26604A-50F4-4449-8B3E-E4F4932D05B5
X-WR-TIMEZONE:Europe/Amsterdam
BEGIN:VTIMEZONE
TZID:Europe/Amsterdam
BEGIN:STANDARD
TZNAME:CET
DTSTART:20261025T030000
TZOFFSETFROM:+0200
TZOFFSETTO:+0100
RDATE:20271031T030000
RDATE:20281029T030000
END:STANDARD
BEGIN:DAYLIGHT
TZNAME:CEST
DTSTART:20270328T020000
TZOFFSETFROM:+0100
TZOFFSETTO:+0200
RDATE:20280326T020000
END:DAYLIGHT
END:VTIMEZONE
BEGIN:VEVENT
UID:b3a98402-3668-4124-853c-7738a6d270da
DTSTAMP:20260423T162338Z
CATEGORIES:Fotoclub Uitgeest
CLASS:PUBLIC
DESCRIPTION:
DTSTART:20270518T173000Z
DTEND:20270518T200000Z
GEO:00;0
LOCATION:
ORGANIZER:
SEQUENCE:1
SUMMARY:Jaarlijks uitstapje.
TRANSP:OPAQUE
URL:https://www.fotoclubuitgeest.nl/agenda/149-jaarlijks-uitstapje-3.html
END:VEVENT
END:VCALENDAR
