BEGIN:VCALENDAR
VERSION:2.0
PRODID:-//Fotoclub Uitgeest//NONSGML kigkonsult.se iCalcreator 2.30.10//
CALSCALE:GREGORIAN
METHOD:PUBLISH
UID:4a66df74-964c-4e76-a086-20fdc7acff63
X-WR-CALNAME:iCagenda
X-WR-CALDESC:Event Management Extension for Joomla!
X-WR-RELCALID:3E26604A-50F4-4449-8B3E-E4F4932D05B5
X-WR-TIMEZONE:Europe/Amsterdam
BEGIN:VTIMEZONE
TZID:Europe/Amsterdam
BEGIN:STANDARD
TZNAME:CET
DTSTART:20251026T030000
TZOFFSETFROM:+0200
TZOFFSETTO:+0100
RDATE:20261025T030000
RDATE:20271031T030000
END:STANDARD
BEGIN:DAYLIGHT
TZNAME:CEST
DTSTART:20260329T020000
TZOFFSETFROM:+0100
TZOFFSETTO:+0200
RDATE:20270328T020000
RDATE:20280326T020000
END:DAYLIGHT
END:VTIMEZONE
BEGIN:VEVENT
UID:8477c118-f7d0-4dca-bb76-095ac4dc0367
DTSTAMP:20260423T150226Z
CATEGORIES:Afdeling Kennemerland
CLASS:PUBLIC
DESCRIPTION:
DTSTART:20260928T180000Z
DTEND:20260928T200000Z
GEO:00;0
LOCATION:
ORGANIZER:
SEQUENCE:1
SUMMARY:Spreker + inleveren 1e ronde vrij / thema 'Natuur in de knel'
TRANSP:OPAQUE
URL:https://www.fotoclubuitgeest.nl/agenda/150-spreker-inleveren-1e-ronde-v
 rij-thema-natuur-in-de-knel.html
END:VEVENT
END:VCALENDAR
