BEGIN:VCALENDAR
VERSION:2.0
PRODID:-//Fotoclub Uitgeest//NONSGML kigkonsult.se iCalcreator 2.30.10//
CALSCALE:GREGORIAN
METHOD:PUBLISH
UID:f22c22ea-7cc4-4d7f-8a3c-f2f4415b8cca
X-WR-CALNAME:iCagenda
X-WR-CALDESC:Event Management Extension for Joomla!
X-WR-RELCALID:3E26604A-50F4-4449-8B3E-E4F4932D05B5
X-WR-TIMEZONE:Europe/Amsterdam
BEGIN:VTIMEZONE
TZID:Europe/Amsterdam
BEGIN:STANDARD
TZNAME:CET
DTSTART:20261025T030000
TZOFFSETFROM:+0200
TZOFFSETTO:+0100
RDATE:20271031T030000
END:STANDARD
BEGIN:DAYLIGHT
TZNAME:CEST
DTSTART:20260329T020000
TZOFFSETFROM:+0100
TZOFFSETTO:+0200
RDATE:20270328T020000
RDATE:20280326T020000
END:DAYLIGHT
END:VTIMEZONE
BEGIN:VEVENT
UID:657b3848-3731-4d5f-92de-75bd5b7a5eba
DTSTAMP:20260423T161603Z
CATEGORIES:Afdeling Kennemerland
CLASS:PUBLIC
DESCRIPTION:
DTSTART:20270308T190000Z
DTEND:20270308T210000Z
GEO:00;0
LOCATION:
ORGANIZER:
SEQUENCE:1
SUMMARY:Ambassadeursvergadering + inleveren foto's 4e ronde
TRANSP:OPAQUE
URL:https://www.fotoclubuitgeest.nl/agenda/161-ambassadeursvergadering-inle
 veren-fotos-4e-ronde.html
END:VEVENT
END:VCALENDAR
