BEGIN:VCALENDAR
VERSION:2.0
PRODID:-//Fotoclub Uitgeest//NONSGML kigkonsult.se iCalcreator 2.30.10//
CALSCALE:GREGORIAN
METHOD:PUBLISH
UID:a5937157-c67e-48c5-a7df-eb66dfa2e06a
X-WR-CALNAME:iCagenda
X-WR-CALDESC:Event Management Extension for Joomla!
X-WR-RELCALID:3E26604A-50F4-4449-8B3E-E4F4932D05B5
X-WR-TIMEZONE:Europe/Amsterdam
BEGIN:VTIMEZONE
TZID:Europe/Amsterdam
BEGIN:STANDARD
TZNAME:CET
DTSTART:20251026T030000
TZOFFSETFROM:+0200
TZOFFSETTO:+0100
RDATE:20261025T030000
RDATE:20271031T030000
END:STANDARD
BEGIN:DAYLIGHT
TZNAME:CEST
DTSTART:20260329T020000
TZOFFSETFROM:+0100
TZOFFSETTO:+0200
RDATE:20270328T020000
END:DAYLIGHT
END:VTIMEZONE
BEGIN:VEVENT
UID:d97dfba7-36a7-437a-a0f8-77b3776afac0
DTSTAMP:20260423T150404Z
CATEGORIES:Fotoclub Uitgeest
CLASS:PUBLIC
DESCRIPTION:
DTSTART:20260922T180000Z
DTEND:20260922T200000Z
GEO:00;0
LOCATION:
ORGANIZER:
SEQUENCE:1
SUMMARY:Presenteren foto's met het thema 'Vrede' of vrije keuze.
TRANSP:OPAQUE
URL:https://www.fotoclubuitgeest.nl/agenda/162-presenteren-fotos-met-het-th
 ema-vrede-of-vrije-keuze.html
END:VEVENT
END:VCALENDAR
