BEGIN:VCALENDAR
VERSION:2.0
PRODID:-//Fotoclub Uitgeest//NONSGML kigkonsult.se iCalcreator 2.30.10//
CALSCALE:GREGORIAN
METHOD:PUBLISH
UID:2996d18a-2650-4d1b-a49e-2d135b90c7b7
X-WR-CALNAME:iCagenda
X-WR-CALDESC:Event Management Extension for Joomla!
X-WR-RELCALID:3E26604A-50F4-4449-8B3E-E4F4932D05B5
X-WR-TIMEZONE:Europe/Amsterdam
BEGIN:VTIMEZONE
TZID:Europe/Amsterdam
BEGIN:STANDARD
TZNAME:CET
DTSTART:20261025T030000
TZOFFSETFROM:+0200
TZOFFSETTO:+0100
RDATE:20271031T030000
END:STANDARD
BEGIN:DAYLIGHT
TZNAME:CEST
DTSTART:20260329T020000
TZOFFSETFROM:+0100
TZOFFSETTO:+0200
RDATE:20270328T020000
RDATE:20280326T020000
END:DAYLIGHT
END:VTIMEZONE
BEGIN:VEVENT
UID:15825565-1e87-4d2a-ae3d-b0cb04f906f1
DTSTAMP:20260423T161752Z
CATEGORIES:Fotoclub Uitgeest
CLASS:PUBLIC
DESCRIPTION:
DTSTART:20270323T190000Z
DTEND:20270323T210000Z
GEO:00;0
LOCATION:
ORGANIZER:
SEQUENCE:1
SUMMARY:Presentatie foto's met het thema 'Meerluiken'.
TRANSP:OPAQUE
URL:https://www.fotoclubuitgeest.nl/agenda/146-bespreken-fotos-met-het-them
 a-meerluiken.html
END:VEVENT
END:VCALENDAR
