BEGIN:VCALENDAR
VERSION:2.0
PRODID:-//Fotoclub Uitgeest//NONSGML kigkonsult.se iCalcreator 2.30.10//
CALSCALE:GREGORIAN
METHOD:PUBLISH
UID:83d9a69a-b0ea-4e98-b1d1-59f3e8cd65f2
X-WR-CALNAME:iCagenda
X-WR-CALDESC:Event Management Extension for Joomla!
X-WR-RELCALID:3E26604A-50F4-4449-8B3E-E4F4932D05B5
X-WR-TIMEZONE:Europe/Amsterdam
BEGIN:VTIMEZONE
TZID:Europe/Amsterdam
BEGIN:STANDARD
TZNAME:CET
DTSTART:20261025T030000
TZOFFSETFROM:+0200
TZOFFSETTO:+0100
RDATE:20271031T030000
END:STANDARD
BEGIN:DAYLIGHT
TZNAME:CEST
DTSTART:20270328T020000
TZOFFSETFROM:+0100
TZOFFSETTO:+0200
RDATE:20280326T020000
END:DAYLIGHT
END:VTIMEZONE
BEGIN:VEVENT
UID:420a4f9f-f108-498f-8751-9713b94b1dfb
DTSTAMP:20260423T162645Z
CATEGORIES:Afdeling Kennemerland
CLASS:PUBLIC
DESCRIPTION:
DTSTART:20270419T180000Z
DTEND:20270419T200000Z
GEO:00;0
LOCATION:
ORGANIZER:
SEQUENCE:1
SUMMARY:Bespreken 4e competitie ronde.
TRANSP:OPAQUE
URL:https://www.fotoclubuitgeest.nl/agenda/155-bespreken-4e-competitie-rond
 e.html
END:VEVENT
END:VCALENDAR
