BEGIN:VCALENDAR
VERSION:2.0
PRODID:-//Fotoclub Uitgeest//NONSGML kigkonsult.se iCalcreator 2.30.10//
CALSCALE:GREGORIAN
METHOD:PUBLISH
UID:fd3201be-b64a-4b5f-acaf-8fc7ddf8862b
X-WR-CALNAME:iCagenda
X-WR-CALDESC:Event Management Extension for Joomla!
X-WR-RELCALID:3E26604A-50F4-4449-8B3E-E4F4932D05B5
X-WR-TIMEZONE:Europe/Amsterdam
BEGIN:VTIMEZONE
TZID:Europe/Amsterdam
BEGIN:STANDARD
TZNAME:CET
DTSTART:20261025T030000
TZOFFSETFROM:+0200
TZOFFSETTO:+0100
RDATE:20271031T030000
END:STANDARD
BEGIN:DAYLIGHT
TZNAME:CEST
DTSTART:20270328T020000
TZOFFSETFROM:+0100
TZOFFSETTO:+0200
RDATE:20280326T020000
END:DAYLIGHT
END:VTIMEZONE
BEGIN:VEVENT
UID:debf8e25-c818-4eb2-81d9-a4c6c9d5552b
DTSTAMP:20260423T162506Z
CATEGORIES:Afdeling Kennemerland
CLASS:PUBLIC
DESCRIPTION:
DTSTART:20270405T180000Z
DTEND:20270405T200000Z
GEO:00;0
LOCATION:
ORGANIZER:
SEQUENCE:1
SUMMARY:Algemene Afdelings Vergadering
TRANSP:OPAQUE
URL:https://www.fotoclubuitgeest.nl/agenda/157-aav-3.html
END:VEVENT
END:VCALENDAR
